
BEGIN:VCALENDAR
VERSION:2.0
PRODID:-//Luiss Sport - Luiss Guido Carli - ECPv6.15.12.2//NONSGML v1.0//EN
CALSCALE:GREGORIAN
METHOD:PUBLISH
X-ORIGINAL-URL:https://sport.luiss.it
X-WR-CALDESC:Eventi per Luiss Sport - Luiss Guido Carli
REFRESH-INTERVAL;VALUE=DURATION:PT1H
X-Robots-Tag:noindex
X-PUBLISHED-TTL:PT1H
BEGIN:VTIMEZONE
TZID:Europe/Rome
BEGIN:DAYLIGHT
TZOFFSETFROM:+0100
TZOFFSETTO:+0200
TZNAME:CEST
DTSTART:20190331T010000
END:DAYLIGHT
BEGIN:STANDARD
TZOFFSETFROM:+0200
TZOFFSETTO:+0100
TZNAME:CET
DTSTART:20191027T010000
END:STANDARD
BEGIN:DAYLIGHT
TZOFFSETFROM:+0100
TZOFFSETTO:+0200
TZNAME:CEST
DTSTART:20200329T010000
END:DAYLIGHT
BEGIN:STANDARD
TZOFFSETFROM:+0200
TZOFFSETTO:+0100
TZNAME:CET
DTSTART:20201025T010000
END:STANDARD
BEGIN:DAYLIGHT
TZOFFSETFROM:+0100
TZOFFSETTO:+0200
TZNAME:CEST
DTSTART:20210328T010000
END:DAYLIGHT
BEGIN:STANDARD
TZOFFSETFROM:+0200
TZOFFSETTO:+0100
TZNAME:CET
DTSTART:20211031T010000
END:STANDARD
BEGIN:DAYLIGHT
TZOFFSETFROM:+0100
TZOFFSETTO:+0200
TZNAME:CEST
DTSTART:20220327T010000
END:DAYLIGHT
BEGIN:STANDARD
TZOFFSETFROM:+0200
TZOFFSETTO:+0100
TZNAME:CET
DTSTART:20221030T010000
END:STANDARD
BEGIN:DAYLIGHT
TZOFFSETFROM:+0100
TZOFFSETTO:+0200
TZNAME:CEST
DTSTART:20230326T010000
END:DAYLIGHT
BEGIN:STANDARD
TZOFFSETFROM:+0200
TZOFFSETTO:+0100
TZNAME:CET
DTSTART:20231029T010000
END:STANDARD
END:VTIMEZONE
BEGIN:VEVENT
DTSTART;TZID=Europe/Rome:20221210T150000
DTEND;TZID=Europe/Rome:20221210T170000
DTSTAMP:20260419T145010
CREATED:20221106T140545Z
LAST-MODIFIED:20221106T140545Z
UID:33932-1670684400-1670691600@sport.luiss.it
SUMMARY:Calcio Juniores\, Luiss vs Parioli Calcio
DESCRIPTION:
URL:https://sport.luiss.it/calendario/calcio-juniores-luiss-vs-parioli-calcio/
LOCATION:Stadio Don Orione\, Via della Camilluccia\, 120\, ROMA
CATEGORIES:Calcio Juniores,Calendario Team AS Luiss
END:VEVENT
BEGIN:VEVENT
DTSTART;TZID=Europe/Rome:20221203T150000
DTEND;TZID=Europe/Rome:20221203T170000
DTSTAMP:20260419T145010
CREATED:20221106T140427Z
LAST-MODIFIED:20221106T140427Z
UID:33930-1670079600-1670086800@sport.luiss.it
SUMMARY:Calcio Juniores\, Fregene Maccarese Calcio vs Luiss
DESCRIPTION:
URL:https://sport.luiss.it/calendario/calcio-juniores-fregene-maccarese-calcio-vs-luiss/
LOCATION:Stadio Angelo Lombardi\, Via della Luna\, snc\, LADISPOLI
CATEGORIES:Calcio Juniores,Calendario Team AS Luiss
END:VEVENT
BEGIN:VEVENT
DTSTART;TZID=Europe/Rome:20221126T150000
DTEND;TZID=Europe/Rome:20221126T170000
DTSTAMP:20260419T145010
CREATED:20221106T140223Z
LAST-MODIFIED:20221106T140223Z
UID:33928-1669474800-1669482000@sport.luiss.it
SUMMARY:Calcio Juniores\, Luiss vs Nuovo Borgo San Martino
DESCRIPTION:
URL:https://sport.luiss.it/calendario/calcio-juniores-luiss-vs-borgo-san-martino/
LOCATION:Stadio Don Orione\, Via della Camilluccia\, 120\, ROMA
CATEGORIES:Calcio Juniores,Calendario Team AS Luiss
END:VEVENT
BEGIN:VEVENT
DTSTART;TZID=Europe/Rome:20221119T150000
DTEND;TZID=Europe/Rome:20221119T170000
DTSTAMP:20260419T145010
CREATED:20221106T140045Z
LAST-MODIFIED:20221106T140045Z
UID:33926-1668870000-1668877200@sport.luiss.it
SUMMARY:Calcio Juniores\, Borgo Palidoro vs Luiss
DESCRIPTION:
URL:https://sport.luiss.it/calendario/calcio-juniores-borgo-palidoro-vs-luiss/
LOCATION:Le Muracciole A\, Va Galtelli\, snc\, FIUMICINO
CATEGORIES:Calcio Juniores,Calendario Team AS Luiss
END:VEVENT
BEGIN:VEVENT
DTSTART;TZID=Europe/Rome:20221112T150000
DTEND;TZID=Europe/Rome:20221112T170000
DTSTAMP:20260419T145010
CREATED:20221106T135824Z
LAST-MODIFIED:20221106T135824Z
UID:33924-1668265200-1668272400@sport.luiss.it
SUMMARY:Calcio Juniores\, Luiss vs Fulgur Tuscania
DESCRIPTION:
URL:https://sport.luiss.it/calendario/calcio-juniores-luiss-vs-fulgur-tuscania-2/
LOCATION:Stadio Don Orione\, Via della Camilluccia\, 120\, ROMA
CATEGORIES:Calcio Juniores,Calendario Team AS Luiss
END:VEVENT
BEGIN:VEVENT
DTSTART;TZID=Europe/Rome:20221105T150000
DTEND;TZID=Europe/Rome:20221105T170000
DTSTAMP:20260419T145010
CREATED:20221103T120005Z
LAST-MODIFIED:20221103T120005Z
UID:33845-1667660400-1667667600@sport.luiss.it
SUMMARY:Calcio Juniores\, Santa Marinella vs AS Luiss
DESCRIPTION:
URL:https://sport.luiss.it/calendario/calcio-juniores-santa-marinella-vs-as-luiss/
CATEGORIES:Calcio Juniores,Calendario Team AS Luiss
END:VEVENT
BEGIN:VEVENT
DTSTART;TZID=Europe/Rome:20220326T143000
DTEND;TZID=Europe/Rome:20220326T170000
DTSTAMP:20260419T145010
CREATED:20220325T142356Z
LAST-MODIFIED:20220325T142356Z
UID:32524-1648305000-1648314000@sport.luiss.it
SUMMARY:Calcio Juniores\, Luiss vs Vis Aurelia
DESCRIPTION:
URL:https://sport.luiss.it/calendario/calcio-juniores-luiss-vs-vis-aurelia/
LOCATION:Don Orione
CATEGORIES:Calcio Juniores,Calendario Team AS Luiss
END:VEVENT
BEGIN:VEVENT
DTSTART;TZID=Europe/Rome:20220319T180000
DTEND;TZID=Europe/Rome:20220319T200000
DTSTAMP:20260419T145010
CREATED:20220316T141123Z
LAST-MODIFIED:20220316T141123Z
UID:32427-1647712800-1647720000@sport.luiss.it
SUMMARY:Calcio Juniores\, Luiss vs Fulgur Tuscania
DESCRIPTION:
URL:https://sport.luiss.it/calendario/calcio-juniores-luiss-vs-fulgur-tuscania/
LOCATION:Campo Don Orione
CATEGORIES:Calcio Juniores,Calendario Team AS Luiss
END:VEVENT
BEGIN:VEVENT
DTSTART;TZID=Europe/Rome:20220312T143000
DTEND;TZID=Europe/Rome:20220312T160000
DTSTAMP:20260419T145010
CREATED:20220311T160545Z
LAST-MODIFIED:20220311T160545Z
UID:32343-1647095400-1647100800@sport.luiss.it
SUMMARY:Calcio Juniores\, Ottavia vs Luiss
DESCRIPTION:
URL:https://sport.luiss.it/calendario/calcio-juniores-ottavia-vs-luiss/
LOCATION:Stadio “Ivo Di Marco”
CATEGORIES:Calcio Juniores,Calendario Team AS Luiss
END:VEVENT
BEGIN:VEVENT
DTSTART;TZID=Europe/Rome:20220305T150000
DTEND;TZID=Europe/Rome:20220305T170000
DTSTAMP:20260419T145010
CREATED:20220303T151345Z
LAST-MODIFIED:20220303T151345Z
UID:32186-1646492400-1646499600@sport.luiss.it
SUMMARY:Calcio Juniores\, Luiss vs Polisportiva Favl Cimini
DESCRIPTION:
URL:https://sport.luiss.it/calendario/calcio-juniores-luiss-vs-polisportiva-favl-cimini/
LOCATION:Campo “Don Orione”\, via della Camilluccia 120
CATEGORIES:Calcio Juniores,Calendario Team AS Luiss
END:VEVENT
BEGIN:VEVENT
DTSTART;TZID=Europe/Rome:20220226T193000
DTEND;TZID=Europe/Rome:20220226T213000
DTSTAMP:20260419T145010
CREATED:20220223T162049Z
LAST-MODIFIED:20220223T162049Z
UID:31970-1645903800-1645911000@sport.luiss.it
SUMMARY:Calcio Juniores\, FC Grifone VIII vs Luiss
DESCRIPTION:
URL:https://sport.luiss.it/calendario/calcio-juniores-fc-grifone-viii-vs-luiss/
CATEGORIES:Calcio Juniores,Calendario Team AS Luiss
END:VEVENT
BEGIN:VEVENT
DTSTART;TZID=Europe/Rome:20220219T150000
DTEND;TZID=Europe/Rome:20220219T170000
DTSTAMP:20260419T145010
CREATED:20220218T144321Z
LAST-MODIFIED:20220218T144321Z
UID:31839-1645282800-1645290000@sport.luiss.it
SUMMARY:Calcio Juniores\, Athletic Soccer Academy vs AS Luiss
DESCRIPTION:
URL:https://sport.luiss.it/calendario/calcio-juniores-athletic-soccer-academy-vs-as-luiss/
CATEGORIES:Calcio Juniores
END:VEVENT
BEGIN:VEVENT
DTSTART;TZID=Europe/Rome:20220212T180000
DTEND;TZID=Europe/Rome:20220212T200000
DTSTAMP:20260419T145010
CREATED:20220210T134608Z
LAST-MODIFIED:20220210T134608Z
UID:31719-1644688800-1644696000@sport.luiss.it
SUMMARY:Calcio Juniores\, AS Luiss vs Città di Cerveteri
DESCRIPTION:
URL:https://sport.luiss.it/calendario/calcio-juniores-as-luiss-vs-citta-cerveteri/
CATEGORIES:Calcio Juniores
END:VEVENT
BEGIN:VEVENT
DTSTART;TZID=Europe/Rome:20211218T143000
DTEND;TZID=Europe/Rome:20211218T163000
DTSTAMP:20260419T145010
CREATED:20211214T135533Z
LAST-MODIFIED:20211214T135533Z
UID:30976-1639837800-1639845000@sport.luiss.it
SUMMARY:Calcio Juniores\, AS Luiss vs Academy Ladispoli
DESCRIPTION:
URL:https://sport.luiss.it/calendario/calcio-juniores-as-luiss-vs-academy-ladispoli/
LOCATION:Campo “Don Orione”
CATEGORIES:Calcio Juniores
END:VEVENT
BEGIN:VEVENT
DTSTART;TZID=Europe/Rome:20211211T180000
DTEND;TZID=Europe/Rome:20211211T200000
DTSTAMP:20260419T145010
CREATED:20211209T113650Z
LAST-MODIFIED:20211209T113650Z
UID:30887-1639245600-1639252800@sport.luiss.it
SUMMARY:Calcio Juniores\, Totti Soccer School vs Luiss
DESCRIPTION:
URL:https://sport.luiss.it/calendario/calcio-juniores-totti-soccer-school-vs-luiss/
CATEGORIES:Calcio Juniores
END:VEVENT
BEGIN:VEVENT
DTSTART;TZID=Europe/Rome:20211204T143000
DTEND;TZID=Europe/Rome:20211204T163000
DTSTAMP:20260419T145010
CREATED:20211201T153133Z
LAST-MODIFIED:20211201T153133Z
UID:30760-1638628200-1638635400@sport.luiss.it
SUMMARY:Calcio Juniores\, Luiss vs Civitavecchia Calcio
DESCRIPTION:
URL:https://sport.luiss.it/calendario/calcio-juniores-luiss-vs-civitavecchia-calcio/
LOCATION:Campo “Don Orione”\, Via della Camilluccia\, 120
CATEGORIES:Calcio Juniores,Calendario Team AS Luiss
END:VEVENT
BEGIN:VEVENT
DTSTART;TZID=Europe/Rome:20211120T143000
DTEND;TZID=Europe/Rome:20211120T163000
DTSTAMP:20260419T145010
CREATED:20211111T093612Z
LAST-MODIFIED:20211111T093612Z
UID:30485-1637418600-1637425800@sport.luiss.it
SUMMARY:Calcio Juniores\, Luiss vs FC Grifone VIII
DESCRIPTION:
URL:https://sport.luiss.it/calendario/calcio-juniores-luiss-vs-fc-grifone-viii/
LOCATION:Campo Don Orione\, Via della Camilluccia\, 120
CATEGORIES:Calcio Juniores,Calendario Team AS Luiss
END:VEVENT
BEGIN:VEVENT
DTSTART;TZID=Europe/Rome:20211113T143000
DTEND;TZID=Europe/Rome:20211113T163000
DTSTAMP:20260419T145010
CREATED:20211111T092513Z
LAST-MODIFIED:20211111T092513Z
UID:30468-1636813800-1636821000@sport.luiss.it
SUMMARY:Calcio Juniores\, Vis Aurelia vs Luiss
DESCRIPTION:
URL:https://sport.luiss.it/calendario/calcio-juniores-vis-aurelia-vs-luiss/
LOCATION:Campo Vis Aurelia\, Via Gioacchino Ventura\, 54\, 00167 Roma RM
CATEGORIES:Calcio Juniores,Calendario Team AS Luiss
END:VEVENT
BEGIN:VEVENT
DTSTART;TZID=Europe/Rome:20211106T143000
DTEND;TZID=Europe/Rome:20211106T163000
DTSTAMP:20260419T145010
CREATED:20211104T101415Z
LAST-MODIFIED:20211104T101415Z
UID:30360-1636209000-1636216200@sport.luiss.it
SUMMARY:Calcio Juniores\, Fulgur Tuscania vs Luiss
DESCRIPTION:
URL:https://sport.luiss.it/calendario/calcio-juniores-fulgur-tuscania-vs-luiss/
LOCATION:Strada Del Solco Snc-Tuscania\, 01017 Tuscania (Vt)
CATEGORIES:Calcio Juniores,Calendario Team AS Luiss
END:VEVENT
BEGIN:VEVENT
DTSTART;TZID=Europe/Rome:20211030T143000
DTEND;TZID=Europe/Rome:20211030T163000
DTSTAMP:20260419T145010
CREATED:20211028T085804Z
LAST-MODIFIED:20211028T085804Z
UID:30222-1635604200-1635611400@sport.luiss.it
SUMMARY:Calcio Juniores\, Luiss vs Ottavia
DESCRIPTION:
URL:https://sport.luiss.it/calendario/calcio-juniores-luiss-vs-ottavia/
LOCATION:Campo “Don Orione”\, Via della Camilluccia\, 120
CATEGORIES:Calcio Juniores,Calendario Team AS Luiss
END:VEVENT
BEGIN:VEVENT
DTSTART;TZID=Europe/Rome:20211023T143000
DTEND;TZID=Europe/Rome:20211023T163000
DTSTAMP:20260419T145010
CREATED:20211020T125414Z
LAST-MODIFIED:20211020T125414Z
UID:30102-1634999400-1635006600@sport.luiss.it
SUMMARY:Calcio Juniores\, Polisportiva Favl Cimini vs Luiss
DESCRIPTION:
URL:https://sport.luiss.it/calendario/calcio-juniores-polisportiva-favl-cimini-vs-luiss/
LOCATION:Stadio “Comunale di Vignanello”
CATEGORIES:Calcio Juniores,Calendario Team AS Luiss
END:VEVENT
BEGIN:VEVENT
DTSTART;TZID=Europe/Rome:20211016T143000
DTEND;TZID=Europe/Rome:20211016T163000
DTSTAMP:20260419T145010
CREATED:20211014T104937Z
LAST-MODIFIED:20211014T104937Z
UID:30019-1634394600-1634401800@sport.luiss.it
SUMMARY:Calcio Juniores\, AS Luiss vs Pianoscarano 1949
DESCRIPTION:
URL:https://sport.luiss.it/calendario/calcio-juniores-as-luiss-vs-pianoscarano-1949/
CATEGORIES:Calcio Juniores
END:VEVENT
BEGIN:VEVENT
DTSTART;TZID=Europe/Rome:20200307T180000
DTEND;TZID=Europe/Rome:20200307T200000
DTSTAMP:20260419T145010
CREATED:20200303T142432Z
LAST-MODIFIED:20200303T142432Z
UID:26638-1583604000-1583611200@sport.luiss.it
SUMMARY:Calcio Juniores\, Luiss vs Eretum Monterotondo
DESCRIPTION:
URL:https://sport.luiss.it/calendario/calcio-juniores-luiss-vs-eretum-monterotondo/
LOCATION:FutbolCampus
CATEGORIES:Calcio Juniores,Calendario Team AS Luiss
END:VEVENT
BEGIN:VEVENT
DTSTART;TZID=Europe/Rome:20200229T150000
DTEND;TZID=Europe/Rome:20200229T170000
DTSTAMP:20260419T145010
CREATED:20200228T102647Z
LAST-MODIFIED:20200228T102647Z
UID:26478-1582988400-1582995600@sport.luiss.it
SUMMARY:Calcio Juniores\, Castelnuovese vs Luiss
DESCRIPTION:
URL:https://sport.luiss.it/calendario/calcio-juniores-castelnuovese-vs-luiss/
LOCATION:Luogo Senza Nome\, Via Tiberina km14
CATEGORIES:Calcio Juniores,Calendario Team AS Luiss
END:VEVENT
BEGIN:VEVENT
DTSTART;TZID=Europe/Rome:20200222T180000
DTEND;TZID=Europe/Rome:20200222T200000
DTSTAMP:20260419T145010
CREATED:20200220T161457Z
LAST-MODIFIED:20200220T161457Z
UID:26385-1582394400-1582401600@sport.luiss.it
SUMMARY:Calcio Juniores: Luiss vs Guidonia
DESCRIPTION:
URL:https://sport.luiss.it/calendario/calcio-juniores-luiss-vs-guidonia/
CATEGORIES:Calcio Juniores,Calendario Team AS Luiss
END:VEVENT
BEGIN:VEVENT
DTSTART;TZID=Europe/Rome:20200215T150000
DTEND;TZID=Europe/Rome:20200215T170000
DTSTAMP:20260419T145010
CREATED:20200212T135635Z
LAST-MODIFIED:20200212T135657Z
UID:26187-1581778800-1581786000@sport.luiss.it
SUMMARY:Calcio Juniores\, Garbatella vs Luiss
DESCRIPTION:
URL:https://sport.luiss.it/calendario/calcio-juniores-garbatella-vs-luiss/
LOCATION:Luogo Senza Nome\, Via Mario Ageno
CATEGORIES:Calcio Juniores,Calendario Team AS Luiss
END:VEVENT
BEGIN:VEVENT
DTSTART;TZID=Europe/Rome:20200208T180000
DTEND;TZID=Europe/Rome:20200208T200000
DTSTAMP:20260419T145010
CREATED:20200205T145149Z
LAST-MODIFIED:20200205T145149Z
UID:26120-1581184800-1581192000@sport.luiss.it
SUMMARY:Calcio Juniores\, Luiss vs SFC2019
DESCRIPTION:
URL:https://sport.luiss.it/calendario/calcio-juniores-luiss-vs-sfc2019/
CATEGORIES:Calcio Juniores,Calendario Team AS Luiss
END:VEVENT
BEGIN:VEVENT
DTSTART;TZID=Europe/Rome:20200201T150000
DTEND;TZID=Europe/Rome:20200201T170000
DTSTAMP:20260419T145010
CREATED:20200129T141446Z
LAST-MODIFIED:20200129T141446Z
UID:25801-1580569200-1580576400@sport.luiss.it
SUMMARY:Calcio Juniores: Fiano Romano vs Luiss
DESCRIPTION:
URL:https://sport.luiss.it/calendario/calcio-juniores-fiano-romano-vs-luiss/
CATEGORIES:Calcio Juniores,Calendario Team AS Luiss
END:VEVENT
BEGIN:VEVENT
DTSTART;TZID=Europe/Rome:20200125T180000
DTEND;TZID=Europe/Rome:20200125T190000
DTSTAMP:20260419T145010
CREATED:20200121T095744Z
LAST-MODIFIED:20200121T095744Z
UID:25416-1579975200-1579978800@sport.luiss.it
SUMMARY:Calcio Juniores: Luiss vs Cantalice
DESCRIPTION:
URL:https://sport.luiss.it/calendario/calcio-juniores-luiss-vs-cantalice/
CATEGORIES:Calcio Juniores,Calendario Team AS Luiss
END:VEVENT
BEGIN:VEVENT
DTSTART;TZID=Europe/Rome:20200118T180000
DTEND;TZID=Europe/Rome:20200118T190000
DTSTAMP:20260419T145010
CREATED:20200115T083414Z
LAST-MODIFIED:20200115T083414Z
UID:25304-1579370400-1579374000@sport.luiss.it
SUMMARY:Calcio juniores\, Luiss vs Alba Sant'Elia
DESCRIPTION:
URL:https://sport.luiss.it/calendario/calcio-juniores-luiss-vs-alba-santelia/
CATEGORIES:Calcio Juniores,Calendario Team AS Luiss
END:VEVENT
END:VCALENDAR